BEGIN:VCALENDAR
VERSION:2.0
PRODID:-//Kreisimkerverein - ECPv6.15.20//NONSGML v1.0//EN
CALSCALE:GREGORIAN
METHOD:PUBLISH
X-ORIGINAL-URL:https://www.kreisimkerverein-hoexter.de
X-WR-CALDESC:Veranstaltungen für Kreisimkerverein
REFRESH-INTERVAL;VALUE=DURATION:PT1H
X-Robots-Tag:noindex
X-PUBLISHED-TTL:PT1H
BEGIN:VTIMEZONE
TZID:Europe/Berlin
BEGIN:DAYLIGHT
TZOFFSETFROM:+0100
TZOFFSETTO:+0200
TZNAME:CEST
DTSTART:20190331T010000
END:DAYLIGHT
BEGIN:STANDARD
TZOFFSETFROM:+0200
TZOFFSETTO:+0100
TZNAME:CET
DTSTART:20191027T010000
END:STANDARD
BEGIN:DAYLIGHT
TZOFFSETFROM:+0100
TZOFFSETTO:+0200
TZNAME:CEST
DTSTART:20200329T010000
END:DAYLIGHT
BEGIN:STANDARD
TZOFFSETFROM:+0200
TZOFFSETTO:+0100
TZNAME:CET
DTSTART:20201025T010000
END:STANDARD
BEGIN:DAYLIGHT
TZOFFSETFROM:+0100
TZOFFSETTO:+0200
TZNAME:CEST
DTSTART:20210328T010000
END:DAYLIGHT
BEGIN:STANDARD
TZOFFSETFROM:+0200
TZOFFSETTO:+0100
TZNAME:CET
DTSTART:20211031T010000
END:STANDARD
END:VTIMEZONE
BEGIN:VEVENT
DTSTART;TZID=Europe/Berlin:20200310T080000
DTEND;TZID=Europe/Berlin:20200310T170000
DTSTAMP:20260421T193241
CREATED:20200101T000000Z
LAST-MODIFIED:20210505T234104Z
UID:849-1583827200-1583859600@www.kreisimkerverein-hoexter.de
SUMMARY:Jahreshauptversammlung
DESCRIPTION:Kreisimkerverein Höxter mit Rückblick und Vorschau zur Jahreshauptversammlung 2020
URL:https://www.kreisimkerverein-hoexter.de/event/jahreshauptversammlung/
LOCATION:Brakel Stadthalle\, Am Schützenanger 4 \, Brakel\, NRW\, 33034\, Deutschland
CATEGORIES:Jahreshauptversammlung
ORGANIZER;CN="Kreisimkerverein H%C3%B6xter e. V.":MAILTO:info@kreisimkerverein-hoexter.de
END:VEVENT
BEGIN:VEVENT
DTSTART;TZID=Europe/Berlin:20200314T093000
DTEND;TZID=Europe/Berlin:20200314T170000
DTSTAMP:20260421T193241
CREATED:20200101T000000Z
LAST-MODIFIED:20200101T000000Z
UID:1034-1584178200-1584205200@www.kreisimkerverein-hoexter.de
SUMMARY:LV-Vertreterversammlung
DESCRIPTION:Versuchs- und Bildungszentrum Landwirtschaft Haus Düsse\,\nHaus Düsse 2\,\n59505 Bad Sassendorf\,\nTelefon: 0 29 45 / 989 – 0\,\nTelefax: 0 29 45 / 989 – 133\,\nE-Mail: HausDuesse@lwk.nrw.de\, 
URL:https://www.kreisimkerverein-hoexter.de/event/lv-vertreterversammlung/
END:VEVENT
BEGIN:VEVENT
DTSTART;TZID=Europe/Berlin:20200314T093000
DTEND;TZID=Europe/Berlin:20200314T170000
DTSTAMP:20260421T193241
CREATED:20200101T000000Z
LAST-MODIFIED:20200101T000000Z
UID:1031-1584178200-1584205200@www.kreisimkerverein-hoexter.de
SUMMARY:Arbeitstagung
DESCRIPTION:
URL:https://www.kreisimkerverein-hoexter.de/event/arbeitstagung/
END:VEVENT
END:VCALENDAR